BEGIN:VCALENDAR
VERSION:2.0
BEGIN:VEVENT
URL:https://theleadbeaterhotel.oztix.com.au/outlet/event/caf1165c-a317-439e-9d19-5d8432f91c6f
DTSTART:20260530T090000Z
DTEND:20260530T090000Z
SUMMARY:SELECT ALL ‘EAVES’ ANNIVERSARY SHOW
DESCRIPTION:Event details: https://theleadbeaterhotel.oztix.com.au/outlet/event/caf1165c-a317-439e-9d19-5d8432f91c6f
LOCATION:The Leadbeater Hotel (Richmond, VIC)
END:VEVENT
END:VCALENDAR